BEGIN:VCALENDAR
VERSION:2.0
PRODID:-//Bedford Area Master Gardeners Association - ECPv6.15.20//NONSGML v1.0//EN
CALSCALE:GREGORIAN
METHOD:PUBLISH
X-ORIGINAL-URL:https://www.bedfordareamastergardeners.org
X-WR-CALDESC:Events for Bedford Area Master Gardeners Association
REFRESH-INTERVAL;VALUE=DURATION:PT1H
X-Robots-Tag:noindex
X-PUBLISHED-TTL:PT1H
BEGIN:VTIMEZONE
TZID:America/New_York
BEGIN:DAYLIGHT
TZOFFSETFROM:-0500
TZOFFSETTO:-0400
TZNAME:EDT
DTSTART:20250309T070000
END:DAYLIGHT
BEGIN:STANDARD
TZOFFSETFROM:-0400
TZOFFSETTO:-0500
TZNAME:EST
DTSTART:20251102T060000
END:STANDARD
BEGIN:DAYLIGHT
TZOFFSETFROM:-0500
TZOFFSETTO:-0400
TZNAME:EDT
DTSTART:20260308T070000
END:DAYLIGHT
BEGIN:STANDARD
TZOFFSETFROM:-0400
TZOFFSETTO:-0500
TZNAME:EST
DTSTART:20261101T060000
END:STANDARD
BEGIN:DAYLIGHT
TZOFFSETFROM:-0500
TZOFFSETTO:-0400
TZNAME:EDT
DTSTART:20270314T070000
END:DAYLIGHT
BEGIN:STANDARD
TZOFFSETFROM:-0400
TZOFFSETTO:-0500
TZNAME:EST
DTSTART:20271107T060000
END:STANDARD
END:VTIMEZONE
BEGIN:VEVENT
DTSTART;TZID=America/New_York:20260428T170000
DTEND;TZID=America/New_York:20260428T183000
DTSTAMP:20260423T135732
CREATED:20260330T000246Z
LAST-MODIFIED:20260330T000443Z
UID:22591-1777395600-1777401000@www.bedfordareamastergardeners.org
SUMMARY:Small Fruits for the Home Gardener: A Bedford Area Master Gardeners Presentation
DESCRIPTION:Event Details\n\nPlant the Patch. Reap the Sweet Rewards. \nThis spring\, join us as the Master Gardeners share the Berry Basics—how to plant\, nurture\, and harvest strawberries\, blueberries\, raspberries\, blackberries\, and grapes. Each participant will take home seeds to start their own sweet success story. \nREGISTER
URL:https://www.bedfordareamastergardeners.org/event/small-fruits-for-the-home-gardener-a-bedford-area-master-gardeners-presentation-6/
LOCATION:Big Island Public Library\, 1111 Schooldays Drive\, Big Island\, VA\, 24526
CATEGORIES:Extension Master Gardener Seminar,Lecture/discussion,Registration Required,seminar
END:VEVENT
BEGIN:VEVENT
DTSTART;TZID=America/New_York:20260520T183000
DTEND;TZID=America/New_York:20260520T193000
DTSTAMP:20260423T135732
CREATED:20251228T021303Z
LAST-MODIFIED:20251228T022858Z
UID:22424-1779301800-1779305400@www.bedfordareamastergardeners.org
SUMMARY:Controlling Pests & Weeds - Zoom Presentation by Prince William Extension Master Gardeners
DESCRIPTION:Join Virginia Cooperative Extension and Master Gardeners for the Gardening Basics Series via Zoom.  Every month we’ll have a new topic\, see the schedule below for dates/topics.  All classes are 6:30pm – 7:30 pm. \nSession V: May 20\, Controlling Pests & Weeds \nSave the Date: Upcoming Gardening Basics Series \n\nSession VI: June 17\, Gardening for Wildlife\nSession VII: July 15\, Native and Invasive Plants\n\nVISIT the Prince William Cooperative Extension each month\, prior to the event date\, to register. \nFor questions\, please call 703-792-7747 or email MasterGardener@pwcgov.org.
URL:https://www.bedfordareamastergardeners.org/event/controlling-pests-weeds-zoom-presentation-by-prince-william-extension-master-gardeners/
LOCATION:Zoom webinar
CATEGORIES:Lecture/discussion,Online,Registration Required,webinar,Zoom
END:VEVENT
BEGIN:VEVENT
DTSTART;TZID=America/New_York:20260617T183000
DTEND;TZID=America/New_York:20260617T193000
DTSTAMP:20260423T135732
CREATED:20251228T021708Z
LAST-MODIFIED:20251228T022828Z
UID:22426-1781721000-1781724600@www.bedfordareamastergardeners.org
SUMMARY:Gardening for Wildlife - Zoom Presentation by Prince William Extension Master Gardeners
DESCRIPTION:Join Virginia Cooperative Extension and Master Gardeners for the Gardening Basics Series via Zoom.  Every month we’ll have a new topic\, see the schedule below for dates/topics.  All classes are 6:30pm – 7:30 pm. \nSession VI: June 17\, Gardening for Wildlife \nSave the Date: Upcoming Gardening Basics Series \n\nSession VII: July 15\, Native and Invasive Plants\n\nVISIT the Prince William Cooperative Extension each month\, prior to the event date\, to register. \nFor questions\, please call 703-792-7747 or email MasterGardener@pwcgov.org.
URL:https://www.bedfordareamastergardeners.org/event/gardening-for-wildlife-zoom-presentation-by-prince-william-extension-master-gardeners/
LOCATION:Zoom webinar
CATEGORIES:Lecture/discussion,Online,Registration Required,webinar,Zoom
END:VEVENT
BEGIN:VEVENT
DTSTART;TZID=America/New_York:20260715T183000
DTEND;TZID=America/New_York:20260715T193000
DTSTAMP:20260423T135732
CREATED:20251228T022139Z
LAST-MODIFIED:20251228T022740Z
UID:22428-1784140200-1784143800@www.bedfordareamastergardeners.org
SUMMARY:Native and Invasive Plants - Zoom Presentation by the Prince William Extension Master Gardeners
DESCRIPTION:Join Virginia Cooperative Extension and Master Gardeners for the last session of the Gardening Basics Series via Zoom. \nSession VII: July 15\, Native and Invasive Plants\, 6:30pm – 7:30 pm. \nVISIT the Prince William Cooperative Extension each month\, prior to the event date\, to register. \n  \nFor questions\, please call 703-792-7747 or email MasterGardener@pwcgov.org.
URL:https://www.bedfordareamastergardeners.org/event/native-and-invasive-plants-zoom-presentation-by-the-prince-william-extension-master-gardeners/
LOCATION:Zoom webinar
CATEGORIES:Lecture/discussion,Online,Registration Required,Virtual,webinar,Zoom
END:VEVENT
END:VCALENDAR