BEGIN:VCALENDAR
VERSION:2.0
PRODID:-//Bedford Area Master Gardeners Association - ECPv6.15.20//NONSGML v1.0//EN
CALSCALE:GREGORIAN
METHOD:PUBLISH
X-ORIGINAL-URL:https://www.bedfordareamastergardeners.org
X-WR-CALDESC:Events for Bedford Area Master Gardeners Association
REFRESH-INTERVAL;VALUE=DURATION:PT1H
X-Robots-Tag:noindex
X-PUBLISHED-TTL:PT1H
BEGIN:VTIMEZONE
TZID:America/New_York
BEGIN:DAYLIGHT
TZOFFSETFROM:-0500
TZOFFSETTO:-0400
TZNAME:EDT
DTSTART:20240310T070000
END:DAYLIGHT
BEGIN:STANDARD
TZOFFSETFROM:-0400
TZOFFSETTO:-0500
TZNAME:EST
DTSTART:20241103T060000
END:STANDARD
BEGIN:DAYLIGHT
TZOFFSETFROM:-0500
TZOFFSETTO:-0400
TZNAME:EDT
DTSTART:20250309T070000
END:DAYLIGHT
BEGIN:STANDARD
TZOFFSETFROM:-0400
TZOFFSETTO:-0500
TZNAME:EST
DTSTART:20251102T060000
END:STANDARD
BEGIN:DAYLIGHT
TZOFFSETFROM:-0500
TZOFFSETTO:-0400
TZNAME:EDT
DTSTART:20260308T070000
END:DAYLIGHT
BEGIN:STANDARD
TZOFFSETFROM:-0400
TZOFFSETTO:-0500
TZNAME:EST
DTSTART:20261101T060000
END:STANDARD
BEGIN:DAYLIGHT
TZOFFSETFROM:-0500
TZOFFSETTO:-0400
TZNAME:EDT
DTSTART:20270314T070000
END:DAYLIGHT
BEGIN:STANDARD
TZOFFSETFROM:-0400
TZOFFSETTO:-0500
TZNAME:EST
DTSTART:20271107T060000
END:STANDARD
END:VTIMEZONE
BEGIN:VEVENT
DTSTART;TZID=America/New_York:20260415T183000
DTEND;TZID=America/New_York:20260415T193000
DTSTAMP:20260423T135839
CREATED:20251228T020936Z
LAST-MODIFIED:20251228T022922Z
UID:22422-1776277800-1776281400@www.bedfordareamastergardeners.org
SUMMARY:Vegetable Gardening 101 - Zoom Presentation by Prince William Extension Master Gardeners
DESCRIPTION:Join Virginia Cooperative Extension and Master Gardeners for the Gardening Basics Series via Zoom.  Every month we’ll have a new topic\, see the schedule below for dates/topics.  All classes are 6:30pm – 7:30 pm. \nSession IV: April 15\, Vegetable Gardening 101 \nSave the Date: Upcoming Gardening Basics Series \n\nSession V: May 20\, Controlling Pests & Weeds\nSession VI: June 17\, Gardening for Wildlife\nSession VII: July 15\, Native and Invasive Plants\n\nVISIT the Prince William Cooperative Extension each month\, prior to the event date\, to register. \nFor questions\, please call 703-792-7747 or email MasterGardener@pwcgov.org.
URL:https://www.bedfordareamastergardeners.org/event/vegetable-gardening-101-zoom-presentation-by-prince-william-extension-master-gardeners/
LOCATION:Zoom webinar
CATEGORIES:Lecture/discussion,Online,Registration Required,Virtual,webinar,Zoom
END:VEVENT
BEGIN:VEVENT
DTSTART;TZID=America/New_York:20260407T130000
DTEND;TZID=America/New_York:20260407T140000
DTSTAMP:20260423T135839
CREATED:20260324T055743Z
LAST-MODIFIED:20260324T060520Z
UID:22569-1775566800-1775570400@www.bedfordareamastergardeners.org
SUMMARY:Ask Me Anything about Vertical Gardening - National Garden Bureau
DESCRIPTION:Vertical Gardening: Your Questions\, Expert Answers –\nTired of plant diseases from poor airflow?\nWant to harvest your veggies without bending over?\nVertical gardening is the solution! This interactive AMA (Ask Me Anything) is your direct line to vertical gardening pros. We’re ready to answer your questions on: DIY vs. pre-made vertical systems. Preventing “bottom-drying” in tall towers. Selecting high-yield varieties for trellises and nets. Stop guessing and start growing up! Secure your spot today for this live Q&A. \nRegister even if you can’t attend live and we’ll send you a recording after the event. \nFREE
URL:https://www.bedfordareamastergardeners.org/event/ask-me-anything-about-vertical-gardening-national-garden-bureau/
LOCATION:Zoom webinar
CATEGORIES:Lecture/discussion,Online,Registration Required,webinar,Zoom
END:VEVENT
BEGIN:VEVENT
DTSTART;TZID=America/New_York:20260318T183000
DTEND;TZID=America/New_York:20260318T193000
DTSTAMP:20260423T135839
CREATED:20251228T020601Z
LAST-MODIFIED:20251228T022944Z
UID:22420-1773858600-1773862200@www.bedfordareamastergardeners.org
SUMMARY:Soil and Turf - Zoom Presentation by the Prince William Extension Master Gardeners
DESCRIPTION:Beat the winter blues\, join Virginia Cooperative Extension and Master Gardeners for the Gardening Basics Series via Zoom.  Every month we’ll have a new topic\, see the schedule below for dates/topics.  All classes are 6:30pm – 7:30 pm. \nSession III: March 18\, Soil & Turf \nSave the Date: Upcoming Gardening Basics Series \n\nSession IV: April 15\, Vegetable Gardening 101\nSession V: May 20\, Controlling Pests & Weeds\nSession VI: June 17\, Gardening for Wildlife\nSession VII: July 15\, Native and Invasive Plants\n\nVISIT the Prince William Cooperative Extension each month\, prior to the event date\, to register. \nFor questions\, please call 703-792-7747 or email MasterGardener@pwcgov.org.
URL:https://www.bedfordareamastergardeners.org/event/soil-and-turf-zoom-presentation-by-the-prince-william-extension-master-gardeners/
LOCATION:Zoom webinar
CATEGORIES:Lecture/discussion,Online,Registration Required,webinar,Zoom
END:VEVENT
BEGIN:VEVENT
DTSTART;TZID=America/New_York:20260218T183000
DTEND;TZID=America/New_York:20260218T193000
DTSTAMP:20260423T135839
CREATED:20251228T020025Z
LAST-MODIFIED:20251228T023006Z
UID:22416-1771439400-1771443000@www.bedfordareamastergardeners.org
SUMMARY:Water Quality & Our Landscape - Zoom Presentation by the Prince William Extension Master Gardeners
DESCRIPTION:Beat the winter blues\, join Virginia Cooperative Extension and Master Gardeners for the Gardening Basics Series via Zoom.  Every month we’ll have a new topic\, see the schedule below for dates/topics.  All classes are 6:30pm – 7:30 pm. \nFebruary 18\, 2026\, Session II: Water Quality & Our Landscape.  \nSave the Date: Upcoming Gardening Basics Series \n\nSession III: March 18\, Soil & Turf\nSession IV: April 15\, Vegetable Gardening 101\nSession V: May 20\, Controlling Pests & Weeds\nSession VI: June 17\, Gardening for Wildlife\nSession VII: July 15\, Native and Invasive Plants\n\nVISIT the Prince William Cooperative Extension each month\, prior to the event date\, to register. \nFor questions\, please call 703-792-7747 or email MasterGardener@pwcgov.org.
URL:https://www.bedfordareamastergardeners.org/event/water-quality-our-landscape-zoom-presentation-by-the-prince-william-extension-master-gardeners/
LOCATION:Webinar
CATEGORIES:Lecture/discussion,Online,Registration Required,webinar,Zoom
END:VEVENT
BEGIN:VEVENT
DTSTART;TZID=America/New_York:20260121T183000
DTEND;TZID=America/New_York:20260121T193000
DTSTAMP:20260423T135839
CREATED:20251228T014418Z
LAST-MODIFIED:20251228T023038Z
UID:22414-1769020200-1769023800@www.bedfordareamastergardeners.org
SUMMARY:Starting Plants Indoors/Winter Seed Sowing - Zoom presentation by the Prince William County Master Gardeners
DESCRIPTION:Beat the winter blues\, join Virginia Cooperative Extension and Master Gardeners for the Gardening Basics Series via Zoom. \nEvery month we’ll have a new topic.  All classes are 6:30pm – 7:30 pm. \nJanuary 21\, 2026\, Session I: Starting Plants Indoors/Winter Seed Sowing. We’ll guide you through what you need\, when and how to start\, and what seeds are best to start indoors and for winter sowing. \n  \nREGISTER \nFor questions\, please call 703-792-7747 or email MasterGardener@pwcgov.org.
URL:https://www.bedfordareamastergardeners.org/event/starting-plants-indoors-winter-seed-sowing-zoom-presentation-by-the-prince-william-county-master-gardeners/
LOCATION:Webinar
CATEGORIES:Lecture/discussion,Online,Registration Required,webinar,Zoom
END:VEVENT
BEGIN:VEVENT
DTSTART;TZID=America/New_York:20260114T113000
DTEND;TZID=America/New_York:20260114T130000
DTSTAMP:20260423T135839
CREATED:20251228T213225Z
LAST-MODIFIED:20251228T213225Z
UID:22446-1768390200-1768395600@www.bedfordareamastergardeners.org
SUMMARY:Winter Activities for Invasive Plant Control presented by Blue Ridge PRISM
DESCRIPTION:Join us for this FREE online webinar to learn practical and effective ways to control invasive plants during the winter season! Guests Patricia Greenberg\, Nicola McGoff\, and Patty Nylander will answer your questions about what\, when\, and how to treat invasive plants over the next two months. \nREGISTER
URL:https://www.bedfordareamastergardeners.org/event/winter-activities-for-invasive-plant-control-presented-by-blue-ridge-prism/
LOCATION:Zoom webinar
CATEGORIES:Lecture/discussion,Online,webinar,Zoom
END:VEVENT
BEGIN:VEVENT
DTSTART;TZID=America/New_York:20250716T150000
DTEND;TZID=America/New_York:20250716T160000
DTSTAMP:20260423T135839
CREATED:20250702T165956Z
LAST-MODIFIED:20250702T165956Z
UID:22235-1752678000-1752681600@www.bedfordareamastergardeners.org
SUMMARY:The Midweek Program - "Exploring Our Perennial Border" (Zoom)
DESCRIPTION:From the JC Raulston Arboretum in Raleigh\, North Carolina \nSome garden trends come and go with the seasons—but the perennial border has earned its place as a true horticultural classic. Join our Research Technician\, Tim\, as he explores the rich history and the living beauty of this beloved garden feature. We’ll take a look back at how perennial borders came to be\, how ours has evolved over time\, and what goes into keeping it vibrant season after season. Along the way\, Tim will highlight a variety of standout plants currently blooming in our own border—some time-tested favorites\, some unexpected gems\, and all worth a closer look. Whether you’re dreaming of a border of your own or just love a good plant show-and-tell\, this program is sure to inspire! \nCLICK TO REGISTER
URL:https://www.bedfordareamastergardeners.org/event/the-midweek-program-exploring-our-perennial-border-zoom/
LOCATION:Webinar
CATEGORIES:Lecture/discussion,Online,Registration Required,Virtual,webinar,Zoom
END:VEVENT
END:VCALENDAR