BEGIN:VCALENDAR
VERSION:2.0
PRODID:-//Bedford Area Master Gardeners Association - ECPv6.15.20//NONSGML v1.0//EN
CALSCALE:GREGORIAN
METHOD:PUBLISH
X-WR-CALNAME:Bedford Area Master Gardeners Association
X-ORIGINAL-URL:https://www.bedfordareamastergardeners.org
X-WR-CALDESC:Events for Bedford Area Master Gardeners Association
REFRESH-INTERVAL;VALUE=DURATION:PT1H
X-Robots-Tag:noindex
X-PUBLISHED-TTL:PT1H
BEGIN:VTIMEZONE
TZID:America/New_York
BEGIN:DAYLIGHT
TZOFFSETFROM:-0500
TZOFFSETTO:-0400
TZNAME:EDT
DTSTART:20240310T070000
END:DAYLIGHT
BEGIN:STANDARD
TZOFFSETFROM:-0400
TZOFFSETTO:-0500
TZNAME:EST
DTSTART:20241103T060000
END:STANDARD
BEGIN:DAYLIGHT
TZOFFSETFROM:-0500
TZOFFSETTO:-0400
TZNAME:EDT
DTSTART:20250309T070000
END:DAYLIGHT
BEGIN:STANDARD
TZOFFSETFROM:-0400
TZOFFSETTO:-0500
TZNAME:EST
DTSTART:20251102T060000
END:STANDARD
BEGIN:DAYLIGHT
TZOFFSETFROM:-0500
TZOFFSETTO:-0400
TZNAME:EDT
DTSTART:20260308T070000
END:DAYLIGHT
BEGIN:STANDARD
TZOFFSETFROM:-0400
TZOFFSETTO:-0500
TZNAME:EST
DTSTART:20261101T060000
END:STANDARD
END:VTIMEZONE
BEGIN:VEVENT
DTSTART;TZID=America/New_York:20251025T103000
DTEND;TZID=America/New_York:20251025T120000
DTSTAMP:20260423T180513
CREATED:20251003T055929Z
LAST-MODIFIED:20251003T055929Z
UID:22344-1761388200-1761393600@www.bedfordareamastergardeners.org
SUMMARY:Herbs\, More Than Just a Pretty Face
DESCRIPTION:
URL:https://www.bedfordareamastergardeners.org/event/herbs-more-than-just-a-pretty-face-6/
LOCATION:Stewartsville Public Library\, 45 Cascade Drive\, Vinton\, VA\, 24179
CATEGORIES:Extension Master Gardener Booth/Display,Lecture/discussion,Registration Required,workshop
END:VEVENT
BEGIN:VEVENT
DTSTART;TZID=America/New_York:20251018T133000
DTEND;TZID=America/New_York:20251018T150000
DTSTAMP:20260423T180513
CREATED:20251003T055551Z
LAST-MODIFIED:20251003T055551Z
UID:22342-1760794200-1760799600@www.bedfordareamastergardeners.org
SUMMARY:Herbs\, More Than Just a Pretty Face
DESCRIPTION:
URL:https://www.bedfordareamastergardeners.org/event/herbs-more-than-just-a-pretty-face-5/
LOCATION:Forest Public Library\, 15583 Forest Road\, Forest\, VA\, 24551
CATEGORIES:Extension Master Gardener Booth/Display,Lecture/discussion,Registration Required,workshop
END:VEVENT
BEGIN:VEVENT
DTSTART;TZID=America/New_York:20251014T170000
DTEND;TZID=America/New_York:20251014T183000
DTSTAMP:20260423T180513
CREATED:20251003T055210Z
LAST-MODIFIED:20251003T055210Z
UID:22340-1760461200-1760466600@www.bedfordareamastergardeners.org
SUMMARY:Herbs\, More Than Just a Pretty Face
DESCRIPTION:
URL:https://www.bedfordareamastergardeners.org/event/herbs-more-than-just-a-pretty-face-4/
LOCATION:Montvale Public Library\, 11575 West Lynchburg-Salem Turnpike\, Montvale\, VA\, 24122
CATEGORIES:Extension Master Gardener Booth/Display,Lecture/discussion,Registration Required,workshop
END:VEVENT
BEGIN:VEVENT
DTSTART;TZID=America/New_York:20251011T103000
DTEND;TZID=America/New_York:20251011T120000
DTSTAMP:20260423T180513
CREATED:20251003T054850Z
LAST-MODIFIED:20251003T054850Z
UID:22338-1760178600-1760184000@www.bedfordareamastergardeners.org
SUMMARY:Herbs\, More Than Just a Pretty Face
DESCRIPTION:
URL:https://www.bedfordareamastergardeners.org/event/herbs-more-than-just-a-pretty-face-3/
LOCATION:Moneta/SML Public Library\, 13641 Moneta Road\, Moneta\, VA\, 24121
CATEGORIES:Extension Master Gardener Booth/Display,Lecture/discussion,Registration Required,workshop
END:VEVENT
BEGIN:VEVENT
DTSTART;TZID=America/New_York:20251007T170000
DTEND;TZID=America/New_York:20251007T183000
DTSTAMP:20260423T180513
CREATED:20251003T054350Z
LAST-MODIFIED:20251003T054350Z
UID:22336-1759856400-1759861800@www.bedfordareamastergardeners.org
SUMMARY:Herbs\, More Than Just a Pretty Face
DESCRIPTION:
URL:https://www.bedfordareamastergardeners.org/event/herbs-more-than-just-a-pretty-face-2/
LOCATION:Big Island Public Library\, 1111 Schooldays Drive\, Big Island\, VA\, 24526
CATEGORIES:Extension Master Gardener Booth/Display,Lecture/discussion,Registration Required,workshop
END:VEVENT
BEGIN:VEVENT
DTSTART;TZID=America/New_York:20251004T103000
DTEND;TZID=America/New_York:20251004T120000
DTSTAMP:20260423T180513
CREATED:20251003T053813Z
LAST-MODIFIED:20251003T053813Z
UID:22334-1759573800-1759579200@www.bedfordareamastergardeners.org
SUMMARY:Herbs: More Than Just a Pretty Face
DESCRIPTION:
URL:https://www.bedfordareamastergardeners.org/event/herbs-more-than-just-a-pretty-face/
LOCATION:Bedford Central Library\, 321 N Bridge Street\, Bedford\, VA\, 24523
CATEGORIES:Lecture/discussion,Registration Required,workshop
END:VEVENT
BEGIN:VEVENT
DTSTART;TZID=America/New_York:20250722T140000
DTEND;TZID=America/New_York:20250722T153000
DTSTAMP:20260423T180513
CREATED:20250114T050739Z
LAST-MODIFIED:20250114T051407Z
UID:21996-1753192800-1753198200@www.bedfordareamastergardeners.org
SUMMARY:The Science of Radio Tagging Monarchs
DESCRIPTION:Stay connected with the latest monarch conservation topics by attending our free monthly webinars. This series is a unique opportunity to hear from experts across various interdisciplinary fields related to monarchs\, other pollinators\, their habitats\, and the threats and pressures that make conservation urgent. Bring your questions and get ready to discover how you can get involved to protect monarchs. \nAll webinars are one hour long and occur at 1:00 PM Central Time. (2:00 PM Eastern Time). Please note that scheduled webinars are subject to change. \n2025 Webinars (topics coming soon): \n\nJuly 22: The Science of Radio Tagging Monarchs presented by Sean Burcher\, Ashley Fisher\, Lee Brown\, and Helen St. John\nAug 26: Coming Soon\nSept 23: Farming for Monarchs: How Monarch Habitat and Ag Can Coexist presented by MJV Habitat Staff\nOct 28: Native Gardens and Climate Resilient Landscaping presented by Sara Ressing\nNov 18: Coming Soon\nDec 16: Coming Soon\n\nSign up once (with only 1 ticket) and attend the webinars that you are interested in. No need to sign up each month. 
URL:https://www.bedfordareamastergardeners.org/event/21996/
LOCATION:online
CATEGORIES:Lecture/discussion,Online,Registration Required
END:VEVENT
BEGIN:VEVENT
DTSTART;TZID=America/New_York:20250716T150000
DTEND;TZID=America/New_York:20250716T160000
DTSTAMP:20260423T180513
CREATED:20250702T165956Z
LAST-MODIFIED:20250702T165956Z
UID:22235-1752678000-1752681600@www.bedfordareamastergardeners.org
SUMMARY:The Midweek Program - "Exploring Our Perennial Border" (Zoom)
DESCRIPTION:From the JC Raulston Arboretum in Raleigh\, North Carolina \nSome garden trends come and go with the seasons—but the perennial border has earned its place as a true horticultural classic. Join our Research Technician\, Tim\, as he explores the rich history and the living beauty of this beloved garden feature. We’ll take a look back at how perennial borders came to be\, how ours has evolved over time\, and what goes into keeping it vibrant season after season. Along the way\, Tim will highlight a variety of standout plants currently blooming in our own border—some time-tested favorites\, some unexpected gems\, and all worth a closer look. Whether you’re dreaming of a border of your own or just love a good plant show-and-tell\, this program is sure to inspire! \nCLICK TO REGISTER
URL:https://www.bedfordareamastergardeners.org/event/the-midweek-program-exploring-our-perennial-border-zoom/
LOCATION:Webinar
CATEGORIES:Lecture/discussion,Online,Registration Required,Virtual,webinar,Zoom
END:VEVENT
END:VCALENDAR